BEGIN:VCALENDAR
VERSION:2.0
PRODID:-//Department Of Education//20535024-4db6-4522-ba09-e352004b5089
BEGIN:VTIMEZONE
TZID:Australia/Sydney
TZURL:http://tzurl.org/zoneinfo-outlook/Australia/Sydney
X-LIC-LOCATION:Australia/Sydney
BEGIN:STANDARD
TZOFFSETFROM:+1100
TZOFFSETTO:+1000
TZNAME:AEST
DTSTART:19700405T030000
RRULE:FREQ=YEARLY;BYMONTH=4;BYDAY=1SU
END:STANDARD
BEGIN:DAYLIGHT
TZOFFSETFROM:+1000
TZOFFSETTO:+1100
TZNAME:AEDT
DTSTART:19701004T020000
RRULE:FREQ=YEARLY;BYMONTH=10;BYDAY=1SU
END:DAYLIGHT
END:VTIMEZONE
CALSCALE:GREGORIAN
X-WR-TIMEZONE:Australia/Sydney
BEGIN:VEVENT
DTSTART;VALUE=DATE:20200306
DTEND;VALUE=DATE:20200309
DTSTAMP:20200306T000000Z
UID:7a29f57c-e4f8-4a5d-91d2-eecbf14e2a48
LOCATION:TPS (Friday) and Galston Crusaders (Saturday & Sunday)
SUMMARY;LANGUAGE=en-us:Band Camp
SEQUENCE:0
DESCRIPTION:All the TPS Bands will participate in the annual band camp, held at TPS on Friday afternoon, and at Galston Crusaders for Senior Jazz Band on Friday evening, and ALL concert bands on Saturday and Sunday (sleeping Saturday night).
END:VEVENT
TRANSP:TRANSPARENT
END:VCALENDAR
